BEGIN:VCALENDAR
VERSION:2.0
PRODID:-//Dispositif ECORCE - ECPv5.10.0//NONSGML v1.0//EN
CALSCALE:GREGORIAN
METHOD:PUBLISH
X-WR-CALNAME:Dispositif ECORCE
X-ORIGINAL-URL:https://blogpeda.ac-poitiers.fr/ecorce
X-WR-CALDESC:évènements pour Dispositif ECORCE
BEGIN:VTIMEZONE
TZID:Europe/Paris
BEGIN:DAYLIGHT
TZOFFSETFROM:+0100
TZOFFSETTO:+0200
TZNAME:CEST
DTSTART:20190331T010000
END:DAYLIGHT
BEGIN:STANDARD
TZOFFSETFROM:+0200
TZOFFSETTO:+0100
TZNAME:CET
DTSTART:20191027T010000
END:STANDARD
END:VTIMEZONE
BEGIN:VEVENT
DTSTART;TZID=Europe/Paris:20190429T133000
DTEND;TZID=Europe/Paris:20190429T170000
DTSTAMP:20260423T141233
CREATED:20190410T150310Z
LAST-MODIFIED:20190410T150310Z
UID:1258-1556544600-1556557200@blogpeda.ac-poitiers.fr
SUMMARY:Immersion - Binôme Mougon/Prahecq
DESCRIPTION:Jeu d’orientation avec Loïc Nau
URL:https://blogpeda.ac-poitiers.fr/ecorce/event/immersion-binome-mougon-prahecq/
LOCATION:Ecole de Mougon\, 14 Route de Triou\, Mougon\, 79370\, France
CATEGORIES:2018-2019_Calendrier
ORGANIZER;CN="LES%20GRIMPEREAUX%20DE%20L%27HERMITAIN":MAILTO:sportnature79@gmail.com
END:VEVENT
END:VCALENDAR