BEGIN:VCALENDAR
VERSION:2.0
PRODID:-//Dispositif ECORCE - ECPv5.10.0//NONSGML v1.0//EN
CALSCALE:GREGORIAN
METHOD:PUBLISH
X-WR-CALNAME:Dispositif ECORCE
X-ORIGINAL-URL:https://blogpeda.ac-poitiers.fr/ecorce
X-WR-CALDESC:évènements pour Dispositif ECORCE
BEGIN:VTIMEZONE
TZID:Europe/Paris
BEGIN:DAYLIGHT
TZOFFSETFROM:+0100
TZOFFSETTO:+0200
TZNAME:CEST
DTSTART:20190331T010000
END:DAYLIGHT
BEGIN:STANDARD
TZOFFSETFROM:+0200
TZOFFSETTO:+0100
TZNAME:CET
DTSTART:20191027T010000
END:STANDARD
END:VTIMEZONE
BEGIN:VEVENT
DTSTART;TZID=Europe/Paris:20190328T090000
DTEND;TZID=Europe/Paris:20190328T120000
DTSTAMP:20260423T122804
CREATED:20190403T141754Z
LAST-MODIFIED:20190403T141754Z
UID:1203-1553763600-1553774400@blogpeda.ac-poitiers.fr
SUMMARY:Immersion - Collège de Lezay
DESCRIPTION:Immersion dur le thème de la haie.
URL:https://blogpeda.ac-poitiers.fr/ecorce/event/immersion-college-de-lezay/
LOCATION:Collège de Lezay\, rue du Temple\, Lezay\, 79120\, France
CATEGORIES:2018-2019_Calendrier
END:VEVENT
END:VCALENDAR