BEGIN:VCALENDAR
VERSION:2.0
PRODID:-//Dispositif ECORCE - ECPv5.10.0//NONSGML v1.0//EN
CALSCALE:GREGORIAN
METHOD:PUBLISH
X-WR-CALNAME:Dispositif ECORCE
X-ORIGINAL-URL:https://blogpeda.ac-poitiers.fr/ecorce
X-WR-CALDESC:évènements pour Dispositif ECORCE
BEGIN:VTIMEZONE
TZID:Europe/Paris
BEGIN:DAYLIGHT
TZOFFSETFROM:+0100
TZOFFSETTO:+0200
TZNAME:CEST
DTSTART:20200329T010000
END:DAYLIGHT
BEGIN:STANDARD
TZOFFSETFROM:+0200
TZOFFSETTO:+0100
TZNAME:CET
DTSTART:20201025T010000
END:STANDARD
END:VTIMEZONE
BEGIN:VEVENT
DTSTART;TZID=Europe/Paris:20200310T090000
DTEND;TZID=Europe/Paris:20200310T120000
DTSTAMP:20260422T203649
CREATED:20200219T091318Z
LAST-MODIFIED:20200219T091318Z
UID:1848-1583830800-1583841600@blogpeda.ac-poitiers.fr
SUMMARY:Immersion Collège de Prahecq
DESCRIPTION:Est-ce que j’agis sur mon territoire lorsque je mange? \nLecture de paysages avec le CPIE et la classe de 6A de madame Barbareau.
URL:https://blogpeda.ac-poitiers.fr/ecorce/event/immersion-college-de-prahecq-3/
LOCATION:CPIE\, 6 Rue du Jardin des Sens\, Coutières\, 79340\, France
CATEGORIES:2019-2020_Calendrier
ORGANIZER;CN="CPIE":MAILTO:accueil@cpie79.fr
END:VEVENT
END:VCALENDAR