BEGIN:VCALENDAR
VERSION:2.0
PRODID:-//Dispositif ECORCE - ECPv5.10.0//NONSGML v1.0//EN
CALSCALE:GREGORIAN
METHOD:PUBLISH
X-WR-CALNAME:Dispositif ECORCE
X-ORIGINAL-URL:https://blogpeda.ac-poitiers.fr/ecorce
X-WR-CALDESC:évènements pour Dispositif ECORCE
BEGIN:VTIMEZONE
TZID:Europe/Paris
BEGIN:DAYLIGHT
TZOFFSETFROM:+0100
TZOFFSETTO:+0200
TZNAME:CEST
DTSTART:20190331T010000
END:DAYLIGHT
BEGIN:STANDARD
TZOFFSETFROM:+0200
TZOFFSETTO:+0100
TZNAME:CET
DTSTART:20191027T010000
END:STANDARD
END:VTIMEZONE
BEGIN:VEVENT
DTSTART;TZID=Europe/Paris:20190510T090000
DTEND;TZID=Europe/Paris:20190510T120000
DTSTAMP:20260424T025240
CREATED:20190402T135040Z
LAST-MODIFIED:20190402T135040Z
UID:1186-1557478800-1557489600@blogpeda.ac-poitiers.fr
SUMMARY:Investigation - Binôme Mauléon/Cerizay
DESCRIPTION:Ferme de la Cottancière à la Petite Boissière. Investigation sur le thème de la haie.
URL:https://blogpeda.ac-poitiers.fr/ecorce/event/investigation-binome-mauleon-cerizay/
LOCATION:Ferme de la Cottancière\, La Petite Boissière\, 79700
ORGANIZER;CN="FEDERATION%20DES%20CHASSEURS":MAILTO:cgoujon@chasse-79.com
END:VEVENT
END:VCALENDAR