BEGIN:VCALENDAR
VERSION:2.0
PRODID:-//Dispositif ECORCE - ECPv5.10.0//NONSGML v1.0//EN
CALSCALE:GREGORIAN
METHOD:PUBLISH
X-WR-CALNAME:Dispositif ECORCE
X-ORIGINAL-URL:https://blogpeda.ac-poitiers.fr/ecorce
X-WR-CALDESC:évènements pour Dispositif ECORCE
BEGIN:VTIMEZONE
TZID:Europe/Paris
BEGIN:DAYLIGHT
TZOFFSETFROM:+0100
TZOFFSETTO:+0200
TZNAME:CEST
DTSTART:20190331T010000
END:DAYLIGHT
BEGIN:STANDARD
TZOFFSETFROM:+0200
TZOFFSETTO:+0100
TZNAME:CET
DTSTART:20191027T010000
END:STANDARD
END:VTIMEZONE
BEGIN:VEVENT
DTSTART;TZID=Europe/Paris:20190405T090000
DTEND;TZID=Europe/Paris:20190405T170000
DTSTAMP:20260423T011927
CREATED:20190408T102529Z
LAST-MODIFIED:20190408T102529Z
UID:1243-1554454800-1554483600@blogpeda.ac-poitiers.fr
SUMMARY:Investigation - Binôme Prahecq/Prahecq2
DESCRIPTION:
URL:https://blogpeda.ac-poitiers.fr/ecorce/event/investigation-binome-prahecq-prahecq2/
LOCATION:Collège de Prahecq\, 11 rue des écoles\, PRAHECQ\, 79230\, France
CATEGORIES:2018-2019_Calendrier
ORGANIZER;CN="LES%20JARDINS%20D%27ISIS":MAILTO:isis.kat@free.fr
END:VEVENT
END:VCALENDAR