BEGIN:VCALENDAR
VERSION:2.0
PRODID:-//Dispositif ECORCE - ECPv5.10.0//NONSGML v1.0//EN
CALSCALE:GREGORIAN
METHOD:PUBLISH
X-WR-CALNAME:Dispositif ECORCE
X-ORIGINAL-URL:https://blogpeda.ac-poitiers.fr/ecorce
X-WR-CALDESC:évènements pour Dispositif ECORCE
BEGIN:VTIMEZONE
TZID:Europe/Paris
BEGIN:DAYLIGHT
TZOFFSETFROM:+0100
TZOFFSETTO:+0200
TZNAME:CEST
DTSTART:20190331T010000
END:DAYLIGHT
BEGIN:STANDARD
TZOFFSETFROM:+0200
TZOFFSETTO:+0100
TZNAME:CET
DTSTART:20191027T010000
END:STANDARD
END:VTIMEZONE
BEGIN:VEVENT
DTSTART;TZID=Europe/Paris:20190503T120000
DTEND;TZID=Europe/Paris:20190503T170000
DTSTAMP:20260423T212242
CREATED:20190403T082831Z
LAST-MODIFIED:20190403T082831Z
UID:1194-1556884800-1556902800@blogpeda.ac-poitiers.fr
SUMMARY:Investigation - Collège Parthenay
DESCRIPTION:Laure-ellen Chollot
URL:https://blogpeda.ac-poitiers.fr/ecorce/event/investigation-college-parthenay/
LOCATION:Parthenay
CATEGORIES:2018-2019_Calendrier
ORGANIZER;CN="ON%20LOGE%20A%20PIED":MAILTO:contact@onlogeapied.fr
END:VEVENT
END:VCALENDAR