BEGIN:VCALENDAR
VERSION:2.0
PRODID:-//Dispositif ECORCE - ECPv5.10.0//NONSGML v1.0//EN
CALSCALE:GREGORIAN
METHOD:PUBLISH
X-WR-CALNAME:Dispositif ECORCE
X-ORIGINAL-URL:https://blogpeda.ac-poitiers.fr/ecorce
X-WR-CALDESC:évènements pour Dispositif ECORCE
BEGIN:VTIMEZONE
TZID:Europe/Paris
BEGIN:DAYLIGHT
TZOFFSETFROM:+0100
TZOFFSETTO:+0200
TZNAME:CEST
DTSTART:20190331T010000
END:DAYLIGHT
BEGIN:STANDARD
TZOFFSETFROM:+0200
TZOFFSETTO:+0100
TZNAME:CET
DTSTART:20191027T010000
END:STANDARD
END:VTIMEZONE
BEGIN:VEVENT
DTSTART;TZID=Europe/Paris:20190429T090000
DTEND;TZID=Europe/Paris:20190429T120000
DTSTAMP:20260423T103552
CREATED:20190406T130730Z
LAST-MODIFIED:20190406T130730Z
UID:1226-1556528400-1556539200@blogpeda.ac-poitiers.fr
SUMMARY:Les petites bêtes du jardin
DESCRIPTION:A la recherche des petites bêtes du jardin et de leurs rôles.
URL:https://blogpeda.ac-poitiers.fr/ecorce/event/investigation-ecole-de-chatillon-sur-thouet/
LOCATION:Ecole de Chatillon sur Thouet\, 6 Avenue St Exupéry\, Chatillon sur Thouet\, 79200\, France
ORGANIZER;CN="LES%20JARDINS%20D%27ISIS":MAILTO:isis.kat@free.fr
END:VEVENT
END:VCALENDAR