BEGIN:VCALENDAR
VERSION:2.0
PRODID:-//Dispositif ECORCE - ECPv5.10.0//NONSGML v1.0//EN
CALSCALE:GREGORIAN
METHOD:PUBLISH
X-WR-CALNAME:Dispositif ECORCE
X-ORIGINAL-URL:https://blogpeda.ac-poitiers.fr/ecorce
X-WR-CALDESC:évènements pour Dispositif ECORCE
BEGIN:VTIMEZONE
TZID:Europe/Paris
BEGIN:DAYLIGHT
TZOFFSETFROM:+0100
TZOFFSETTO:+0200
TZNAME:CEST
DTSTART:20190331T010000
END:DAYLIGHT
BEGIN:STANDARD
TZOFFSETFROM:+0200
TZOFFSETTO:+0100
TZNAME:CET
DTSTART:20191027T010000
END:STANDARD
END:VTIMEZONE
BEGIN:VEVENT
DTSTART;TZID=Europe/Paris:20190510T080000
DTEND;TZID=Europe/Paris:20190510T170000
DTSTAMP:20260424T011505
CREATED:20190402T074647Z
LAST-MODIFIED:20190402T074647Z
UID:1181-1557475200-1557507600@blogpeda.ac-poitiers.fr
SUMMARY:Investigation2 - Ecole de Ste-Néomaye
DESCRIPTION:
URL:https://blogpeda.ac-poitiers.fr/ecorce/event/investigation2-ecole-de-ste-neomaye/
LOCATION:Ecole de Ste Néomaye\, 5 Rue de la Mairie\, Sainte-Néomaye\, 79260\, France
CATEGORIES:2018-2019_Calendrier
ORGANIZER;CN="CPIE":MAILTO:accueil@cpie79.fr
END:VEVENT
END:VCALENDAR