BEGIN:VCALENDAR
VERSION:2.0
PRODID:-//Dispositif ECORCE - ECPv5.10.0//NONSGML v1.0//EN
CALSCALE:GREGORIAN
METHOD:PUBLISH
X-WR-CALNAME:Dispositif ECORCE
X-ORIGINAL-URL:https://blogpeda.ac-poitiers.fr/ecorce
X-WR-CALDESC:évènements pour Dispositif ECORCE
BEGIN:VTIMEZONE
TZID:Europe/Paris
BEGIN:DAYLIGHT
TZOFFSETFROM:+0100
TZOFFSETTO:+0200
TZNAME:CEST
DTSTART:20190331T010000
END:DAYLIGHT
BEGIN:STANDARD
TZOFFSETFROM:+0200
TZOFFSETTO:+0100
TZNAME:CET
DTSTART:20191027T010000
END:STANDARD
END:VTIMEZONE
BEGIN:VEVENT
DTSTART;TZID=Europe/Paris:20190524T090000
DTEND;TZID=Europe/Paris:20190524T170000
DTSTAMP:20260424T195342
CREATED:20190403T070318Z
LAST-MODIFIED:20190403T070318Z
UID:1189-1558688400-1558717200@blogpeda.ac-poitiers.fr
SUMMARY:Valorisation - Ecole de Châtillon sur Thouet
DESCRIPTION:Intervention sur le maintien d’une diversité de plantes sauvages aux alentours et dans le potager.
URL:https://blogpeda.ac-poitiers.fr/ecorce/event/valorisation-ecole-de-chatillon-sur-thouet/
LOCATION:Ecole de Chatillon sur Thouet\, 6 Avenue St Exupéry\, Chatillon sur Thouet\, 79200\, France
CATEGORIES:2018-2019_Calendrier
ORGANIZER;CN="ANNE-PAULE%20MOUSNIER":MAILTO:annepaule.mousnier@sfr.fr
END:VEVENT
END:VCALENDAR