BEGIN:VCALENDAR
VERSION:2.0
PRODID:-//Dispositif ECORCE - ECPv5.10.0//NONSGML v1.0//EN
CALSCALE:GREGORIAN
METHOD:PUBLISH
X-WR-CALNAME:Dispositif ECORCE
X-ORIGINAL-URL:https://blogpeda.ac-poitiers.fr/ecorce
X-WR-CALDESC:évènements pour Dispositif ECORCE
BEGIN:VTIMEZONE
TZID:Europe/Paris
BEGIN:DAYLIGHT
TZOFFSETFROM:+0100
TZOFFSETTO:+0200
TZNAME:CEST
DTSTART:20190331T010000
END:DAYLIGHT
BEGIN:STANDARD
TZOFFSETFROM:+0200
TZOFFSETTO:+0100
TZNAME:CET
DTSTART:20191027T010000
END:STANDARD
END:VTIMEZONE
BEGIN:VEVENT
DTSTART;TZID=Europe/Paris:20190521T090000
DTEND;TZID=Europe/Paris:20190521T110000
DTSTAMP:20260424T130243
CREATED:20190410T094245Z
LAST-MODIFIED:20190410T094245Z
UID:1255-1558429200-1558436400@blogpeda.ac-poitiers.fr
SUMMARY:Valorisation - Ecole de Mauléon
DESCRIPTION:Comédie scientifique avec Christian Goichon…
URL:https://blogpeda.ac-poitiers.fr/ecorce/event/valorisation-ecole-de-mauleon/
LOCATION:Ecole de Mauléon\, 22 rue de Montalent\, Mauléon\, 79700\, France
CATEGORIES:2018-2019_Calendrier
ORGANIZER;CN="LES%20BRASSEURS%20D%27IDEES":MAILTO:brasseursdidees@yahoo.fr
END:VEVENT
END:VCALENDAR